BEGIN:VCALENDAR
BEGIN:VEVENT
SUMMARY:Funeral notice for TIMMS\, Margaret Beatrice
DTSTART:20260422T000000
DTEND:20260423T000000
DTSTAMP:20260422T161918Z
UID:6353046
DESCRIPTION:For the Funeral time and location details\, please view the no
 tice on the My Tributes site. (https://www.riverineherald.com.au/tributes/
 notice/funeral-notices/timms-margaret-beatrice/6353046/)
END:VEVENT
END:VCALENDAR
