BEGIN:VCALENDAR
BEGIN:VEVENT
SUMMARY:Funeral notice for THOMAS\, Freda "Betty"
DTSTART:20260417T000000
DTEND:20260418T000000
DTSTAMP:20260420T041258Z
UID:6353399
DESCRIPTION:For the Funeral time and location details\, please view the no
 tice on the My Tributes site. (https://www.riverineherald.com.au/tributes/
 notice/funeral-notices/thomas-freda-betty/6353399/)
END:VEVENT
END:VCALENDAR
