BEGIN:VCALENDAR
BEGIN:VEVENT
SUMMARY:Funeral notice for CULLINAN\, Dianne Kaye (nee Riethmuller)
DTSTART:20260420T000000
DTEND:20260421T000000
DTSTAMP:20260424T012206Z
UID:6353444
DESCRIPTION:For the Funeral time and location details\, please view the no
 tice on the My Tributes site. (https://www.riverineherald.com.au/tributes/
 notice/funeral-notices/cullinan-dianne-kaye-nee-riethmuller/6353444/)
END:VEVENT
END:VCALENDAR
