BEGIN:VCALENDAR
BEGIN:VEVENT
SUMMARY:Funeral notice for CORY\, Pamela Glasford
DTSTART:20260424T000000
DTEND:20260425T000000
DTSTAMP:20260423T180114Z
UID:6353932
DESCRIPTION:For the Funeral time and location details\, please view the no
 tice on the My Tributes site. (https://www.riverineherald.com.au/tributes/
 notice/funeral-notices/cory-pamela-glasford/6353932/)
END:VEVENT
END:VCALENDAR
