BEGIN:VCALENDAR
BEGIN:VEVENT
SUMMARY:Funeral notice for GOLIGHTLY\, Ethel Dorothy
DTSTART:20260522T000000
DTEND:20260523T000000
DTSTAMP:20260423T101006Z
UID:6354157
DESCRIPTION:For the Funeral time and location details\, please view the no
 tice on the My Tributes site. (https://www.riverineherald.com.au/tributes/
 notice/funeral-notices/golightly-ethel-dorothy/6354157/)
END:VEVENT
END:VCALENDAR
