BEGIN:VCALENDAR
BEGIN:VEVENT
SUMMARY:Funeral notice for SANTINI\, Velia Maria
DTSTART:20260422T000000
DTEND:20260423T000000
DTSTAMP:20260422T030333Z
UID:6354190
DESCRIPTION:For the Funeral time and location details\, please view the no
 tice on the My Tributes site. (https://www.riverineherald.com.au/tributes/
 notice/funeral-notices/santini-velia-maria/6354190/)
END:VEVENT
END:VCALENDAR
