BEGIN:VCALENDAR
BEGIN:VEVENT
SUMMARY:Funeral notice for WILLIAMS (NÉE NEWELL)\, Carol Ann
DTSTART:20260424T000000
DTEND:20260425T000000
DTSTAMP:20260420T134022Z
UID:6354319
DESCRIPTION:For the Funeral time and location details\, please view the no
 tice on the My Tributes site. (https://www.riverineherald.com.au/tributes/
 notice/funeral-notices/williams-nee-newell-carol-ann/6354319/)
END:VEVENT
END:VCALENDAR
