BEGIN:VCALENDAR
BEGIN:VEVENT
SUMMARY:Funeral notice for CRICHTON\, Elizabeth Ailcie
DTSTART:20260421T000000
DTEND:20260422T000000
DTSTAMP:20260420T094534Z
UID:6354404
DESCRIPTION:For the Funeral time and location details\, please view the no
 tice on the My Tributes site. (https://www.riverineherald.com.au/tributes/
 notice/funeral-notices/crichton-elizabeth-ailcie/6354404/)
END:VEVENT
END:VCALENDAR
