BEGIN:VCALENDAR
BEGIN:VEVENT
SUMMARY:Funeral notice for DAVENPORT\, Marion Helen
DTSTART:20260420T000000
DTEND:20260421T000000
DTSTAMP:20260421T225457Z
UID:6354443
DESCRIPTION:For the Funeral time and location details\, please view the no
 tice on the My Tributes site. (https://www.riverineherald.com.au/tributes/
 notice/funeral-notices/davenport-marion-helen/6354443/)
END:VEVENT
END:VCALENDAR
