BEGIN:VCALENDAR
BEGIN:VEVENT
SUMMARY:Funeral notice for KERSLAKE\, Martha Elizabeth
DTSTART:20260424T000000
DTEND:20260425T000000
DTSTAMP:20260424T183423Z
UID:6354515
DESCRIPTION:For the Funeral time and location details\, please view the no
 tice on the My Tributes site. (https://www.riverineherald.com.au/tributes/
 notice/funeral-notices/kerslake-martha-elizabeth/6354515/)
END:VEVENT
END:VCALENDAR
