BEGIN:VCALENDAR
BEGIN:VEVENT
SUMMARY:Funeral notice for TURNER\, Maxwell (Max) Carl
DTSTART:20260422T000000
DTEND:20260423T000000
DTSTAMP:20260422T043041Z
UID:6354536
DESCRIPTION:For the Funeral time and location details\, please view the no
 tice on the My Tributes site. (https://www.riverineherald.com.au/tributes/
 notice/funeral-notices/turner-maxwell-max-carl/6354536/)
END:VEVENT
END:VCALENDAR
