BEGIN:VCALENDAR
BEGIN:VEVENT
SUMMARY:Funeral notice for VOSS\, Beverlei Merle (nee Doncaster)
DTSTART:20260422T000000
DTEND:20260423T000000
DTSTAMP:20260420T145522Z
UID:6354601
DESCRIPTION:For the Funeral time and location details\, please view the no
 tice on the My Tributes site. (https://www.riverineherald.com.au/tributes/
 notice/funeral-notices/voss-beverlei-merle-nee-doncaster/6354601/)
END:VEVENT
END:VCALENDAR
