BEGIN:VCALENDAR
BEGIN:VEVENT
SUMMARY:Funeral notice for TURNER\, Joyce Christina
DTSTART:20260424T000000
DTEND:20260425T000000
DTSTAMP:20260424T175743Z
UID:6354665
DESCRIPTION:For the Funeral time and location details\, please view the no
 tice on the My Tributes site. (https://www.riverineherald.com.au/tributes/
 notice/funeral-notices/turner-joyce-christina/6354665/)
END:VEVENT
END:VCALENDAR
