BEGIN:VCALENDAR
BEGIN:VEVENT
SUMMARY:Funeral notice for SMITH\, John Charles
DTSTART:20260423T000000
DTEND:20260424T000000
DTSTAMP:20260422T063244Z
UID:6354713
DESCRIPTION:For the Funeral time and location details\, please view the no
 tice on the My Tributes site. (https://www.riverineherald.com.au/tributes/
 notice/funeral-notices/smith-john-charles/6354713/)
END:VEVENT
END:VCALENDAR
