BEGIN:VCALENDAR
BEGIN:VEVENT
SUMMARY:Funeral notice for PALLETT\, Yvonne Rose
DTSTART:20260424T000000
DTEND:20260425T000000
DTSTAMP:20260420T134052Z
UID:6354738
DESCRIPTION:For the Funeral time and location details\, please view the no
 tice on the My Tributes site. (https://www.riverineherald.com.au/tributes/
 notice/funeral-notices/pallett-yvonne-rose/6354738/)
END:VEVENT
END:VCALENDAR
