BEGIN:VCALENDAR
BEGIN:VEVENT
SUMMARY:Funeral notice for GREEN\, Dorothy Jean 'Jean'
DTSTART:20260424T000000
DTEND:20260425T000000
DTSTAMP:20260422T002132Z
UID:6354809
DESCRIPTION:For the Funeral time and location details\, please view the no
 tice on the My Tributes site. (https://www.riverineherald.com.au/tributes/
 notice/funeral-notices/green-dorothy-jean-jean/6354809/)
END:VEVENT
END:VCALENDAR
