BEGIN:VCALENDAR
BEGIN:VEVENT
SUMMARY:Funeral notice for RICHARDSON\, Shirley Noreen
DTSTART:20260423T000000
DTEND:20260424T000000
DTSTAMP:20260425T233646Z
UID:6354899
DESCRIPTION:For the Funeral time and location details\, please view the no
 tice on the My Tributes site. (https://www.riverineherald.com.au/tributes/
 notice/funeral-notices/richardson-shirley-noreen/6354899/)
END:VEVENT
END:VCALENDAR
