BEGIN:VCALENDAR
BEGIN:VEVENT
SUMMARY:Funeral notice for PIGGOTT (AUSTIN)\, Mary
DTSTART:20260427T000000
DTEND:20260428T000000
DTSTAMP:20260426T121621Z
UID:6354967
DESCRIPTION:For the Funeral time and location details\, please view the no
 tice on the My Tributes site. (https://www.riverineherald.com.au/tributes/
 notice/funeral-notices/piggott-austin-mary/6354967/)
END:VEVENT
END:VCALENDAR
